BEGIN:VCALENDAR
VERSION:2.0
PRODID:-//ChamberMaster//Event Calendar 2.0//EN
METHOD:PUBLISH
X-PUBLISHED-TTL:P3D
REFRESH-INTERVAL:P3D
CALSCALE:GREGORIAN
BEGIN:VEVENT
DTSTART:20230920T210000Z
DTEND:20230921T000000Z
X-MICROSOFT-CDO-ALLDAYEVENT:FALSE
SUMMARY:2023 Parade of Homes Awards Gala
DESCRIPTION:2023 Parade of Homes Awards Gala
X-ALT-DESC;FMTTYPE=text/html:<span style="font-family:calibri\,sans-serif\;"><span style="font-size:11.0pt\;">2023 Parade of Homes Awards Gala</span></span>
LOCATION:Best Western Premier 800 East Park Drive Harrisburg\, PA 17109
UID:e.9574.15439
SEQUENCE:3
DTSTAMP:20260423T212529Z
URL:https://members.harrisburgbuilders.com/events/details/2023-parade-of-homes-awards-gala-15439
END:VEVENT

END:VCALENDAR
