BEGIN:VCALENDAR
VERSION:2.0
PRODID:-//ChamberMaster//Event Calendar 2.0//EN
METHOD:PUBLISH
X-PUBLISHED-TTL:P3D
REFRESH-INTERVAL:P3D
CALSCALE:GREGORIAN
BEGIN:VEVENT
DTSTART:20261014T210000Z
DTEND:20261014T230000Z
X-MICROSOFT-CDO-ALLDAYEVENT:FALSE
SUMMARY:2026 Building After Hours - Annual Meeting
DESCRIPTION:Annual Membership Meeting of the Home Builders Association of Metropolitan Harrisburg\n\nThe Home Builders Association of Metropolitan Harrisburg will be holding our Annual Membership Meeting to vote on our upcoming slate of Board Officers along with Board Member seats for the next 2 year term. \n\n \n\nEach HBA Member in good standing shall be entitled to one vote for any office of the Board of Directors with the exception of the Associate Vice President.  This office will be voted on by only the Associate Members.\n\n\n\nIn the event your membership is a corporation\, a partnership\, association or other legal entity\, you may appoint someone from your organization to cast your ballot.\n\n\n\nThe Annual Meeting will be held in conjunction with our "Building After Hours" Social.\n\n\n\nBuilding After Hours is a premier networking event designed to connect members and industry professionals for meaningful collaboration. Held from 5:00 PM to 7:00 PM at the host member's place of business\, this event provides a valuable opportunity for the host company to showcase its offerings to attendees.\n\nGuests will enjoy beverages and hors d'oeuvres provided by the host. Members are encouraged to invite non-members to expand networking opportunities.\n\nA Series Sponsor representative will welcome attendees and deliver a 3-5 minute presentation about their company. Additionally\, the Host Sponsor will select the venue\, provide refreshments\, and give a 2-minute company introduction to the audience.
X-ALT-DESC;FMTTYPE=text/html:<p data-end="318" data-start="0"><strong><span style="font-family: arial\, sans-serif\;">Annual Membership Meeting of the Home Builders Association of Metropolitan Harrisburg</span></strong><br />\n<span style="font-family: arial\, sans-serif\;">The Home Builders Association of Metropolitan Harrisburg will be holding our Annual Membership Meeting to vote on our upcoming slate of Board Officers along with Board Member seats for the next 2 year term.&nbsp\;</span><br />\n&nbsp\;<br />\n<strong><span style="font-family: arial\, sans-serif\;">Each HBA Member in good standing shall be entitled to one vote for any office of the Board of Directors with the exception of the Associate Vice President.&nbsp\; This office will be voted on by only the Associate Members.</span></strong><br />\n<br />\n<strong><span style="font-family: arial\, sans-serif\;">In the event your membership is a corporation\, a partnership\, association or other legal entity\, you may appoint someone from your organization to cast your ballot.</span></strong><br />\n<br />\n<strong><span style="font-family: arial\, sans-serif\;">The Annual Meeting will be held in conjunction with our &ldquo\;Building After Hours&rdquo\; Social.</span></strong><br />\n<br />\n<strong data-end="24" data-start="0">Building After Hours</strong> is a premier networking event designed to connect members and industry professionals for meaningful collaboration. Held from <strong data-end="172" data-start="150">5:00 PM to 7:00 PM</strong> at the host member&#39\;s place of business\, this event provides a valuable opportunity for the host company to showcase its offerings to attendees.</p>\n\n<p data-end="471" data-start="320">Guests will enjoy beverages and hors d&#39\;oeuvres provided by the host. Members are encouraged to invite non-members to expand networking opportunities.</p>\n\n<p data-end="736" data-is-last-node="" data-is-only-node="" data-start="473">A <strong data-end="493" data-start="475">Series Sponsor</strong> representative will welcome attendees and deliver a <strong data-end="573" data-start="546">3-5 minute presentation</strong> about their company. Additionally\, the <strong data-end="629" data-start="613">Host Sponsor</strong> will select the venue\, provide refreshments\, and give a <strong data-end="719" data-start="686">2-minute company introduction</strong> to the audience.</p>\n
LOCATION:Host Sponsor Needed - Contact Emily to Sponsor
UID:e.9574.15723
SEQUENCE:3
DTSTAMP:20260420T120141Z
URL:https://members.harrisburgbuilders.com/events/details/2026-building-after-hours-annual-meeting-15723
END:VEVENT

END:VCALENDAR
