BEGIN:VCALENDAR
VERSION:2.0
PRODID:-//ChamberMaster//Event Calendar 2.0//EN
METHOD:PUBLISH
X-PUBLISHED-TTL:P3D
REFRESH-INTERVAL:P3D
CALSCALE:GREGORIAN
BEGIN:VEVENT
DTSTART:20260812T210000Z
DTEND:20260812T230000Z
X-MICROSOFT-CDO-ALLDAYEVENT:FALSE
SUMMARY:2026 Building After Hours - Manor House Studio
DESCRIPTION:Building After Hours is a premier networking event designed to connect members and industry professionals for meaningful collaboration. Held from 5:00 PM to 7:00 PM at the host member's place of business\, this event provides a valuable opportunity for the host company to showcase its offerings to attendees.\n\nGuests will enjoy beverages and hors d'oeuvres provided by the host. Members are encouraged to invite non-members to expand networking opportunities.\n\nA Series Sponsor representative will welcome attendees and deliver a 3?5 minute presentation about their company. Additionally\, the Host Sponsor will select the venue\, provide refreshments\, and give a 2-minute company introduction to the audience.
X-ALT-DESC;FMTTYPE=text/html:<p data-end="318" data-start="0"><strong data-end="24" data-start="0">Building After Hours</strong> is a premier networking event designed to connect members and industry professionals for meaningful collaboration. Held from <strong data-end="172" data-start="150">5:00 PM to 7:00 PM</strong> at the host member&#39\;s place of business\, this event provides a valuable opportunity for the host company to showcase its offerings to attendees.</p>\n\n<p data-end="471" data-start="320">Guests will enjoy beverages and hors d&#39\;oeuvres provided by the host. Members are encouraged to invite non-members to expand networking opportunities.</p>\n\n<p data-end="736" data-is-last-node="" data-is-only-node="" data-start="473">A <strong data-end="493" data-start="475">Series Sponsor</strong> representative will welcome attendees and deliver a <strong data-end="573" data-start="546">3?5 minute presentation</strong> about their company. Additionally\, the <strong data-end="629" data-start="613">Host Sponsor</strong> will select the venue\, provide refreshments\, and give a <strong data-end="719" data-start="686">2-minute company introduction</strong> to the audience.</p>\n
LOCATION:Manor House Studio 313 Market Street Lemoyne\, PA 17043 717-737-3733 showroom phone
UID:e.9574.15721
SEQUENCE:3
DTSTAMP:20260421T082956Z
URL:https://members.harrisburgbuilders.com/events/details/2026-building-after-hours-manor-house-studio-15721
END:VEVENT

END:VCALENDAR
