BEGIN:VCALENDAR
VERSION:2.0
PRODID:-//ChamberMaster//Event Calendar 2.0//EN
METHOD:PUBLISH
X-PUBLISHED-TTL:P3D
REFRESH-INTERVAL:P3D
CALSCALE:GREGORIAN
BEGIN:VEVENT
DTSTART:20261104T163000Z
DTEND:20261104T230000Z
X-MICROSOFT-CDO-ALLDAYEVENT:FALSE
SUMMARY:2026 HBA Clay Shoot
DESCRIPTION:Join us for our second annual HBA Clay Shoot Tournament. The day will open with lunch for all participants\, followed by the Clay Shoot\, and ending with refreshments and prizes
X-ALT-DESC;FMTTYPE=text/html:Join us for our second annual HBA Clay Shoot Tournament. The day will open with lunch for all participants\, followed by the Clay Shoot\, and ending with refreshments and prizes
LOCATION:Central Penn Sporting Clays
UID:e.9574.15672
SEQUENCE:3
DTSTAMP:20260420T120329Z
URL:https://members.harrisburgbuilders.com/events/details/2026-hba-clay-shoot-15672
END:VEVENT

END:VCALENDAR
