BEGIN:VCALENDAR
VERSION:2.0
PRODID:-//ChamberMaster//Event Calendar 2.0//EN
METHOD:PUBLISH
X-PUBLISHED-TTL:P3D
REFRESH-INTERVAL:P3D
CALSCALE:GREGORIAN
BEGIN:VEVENT
DTSTART:20261008T203000Z
DTEND:20261009T000000Z
X-MICROSOFT-CDO-ALLDAYEVENT:FALSE
SUMMARY:2026 HBA/PBX Pub Crawl
DESCRIPTION:Join the Home Builders Association of Metropolitan Harrisburg and the Pennsylvania Builders Exchange (PBX) for a fun-filled evening in Downtown Harrisburg! This Pub Crawl will take you through a series of local pubs with great food\, drinks\, and networking opportunities.
X-ALT-DESC;FMTTYPE=text/html:Join the Home Builders Association of Metropolitan Harrisburg and the Pennsylvania Builders Exchange (PBX) for a fun-filled evening in Downtown Harrisburg! This Pub Crawl will take you through a series of local pubs with great food\, drinks\, and networking opportunities.
LOCATION:Participating Pubs: McGraths - 4:30-5:30 Stock's on 2nd - 5:30-6:00 Brick Haus - 6:00-6:30 Sawyer's - 6:30-7:00 Zembies - 7:00-8:00
UID:e.9574.15737
SEQUENCE:3
DTSTAMP:20260420T121821Z
URL:https://members.harrisburgbuilders.com/events/details/2026-hba-pbx-pub-crawl-15737
END:VEVENT

END:VCALENDAR
