BEGIN:VCALENDAR
VERSION:2.0
PRODID:-//ChamberMaster//Event Calendar 2.0//EN
METHOD:PUBLISH
X-PUBLISHED-TTL:P3D
REFRESH-INTERVAL:P3D
CALSCALE:GREGORIAN
BEGIN:VEVENT
DTSTART:20260414T113000Z
DTEND:20260414T130000Z
X-MICROSOFT-CDO-ALLDAYEVENT:FALSE
SUMMARY:2026 Member 2 Member Referral Network
DESCRIPTION:Member 2 Member Referral Network is a referral networking group for Members. The group meets monthly on a Tuesday\, rotating between breakfast and afternoon meetings. Each attendee is allotted two minutes to introduce themselves\, their company\, exchange business cards\, and share potential leads with the group. Each Meeting will include a Feature Builder\, a Coffee & Donut Sponsor for Breakfast Meetings held from 7:30am-9:00am and First Round Sponsor for the afternoon Meetings held 3:30pm 5:00pm. There is no charge to attend these meetings. Meeting locations change each month.
X-ALT-DESC;FMTTYPE=text/html:<span style="color: rgb(0\, 12\, 15)\; font-family: Lato\; font-size: 14px\;">Member 2 Member Referral Network is a referral networking group for Members. The group meets monthly on a Tuesday\, rotating between breakfast and afternoon meetings. Each attendee is allotted two minutes to introduce themselves\, their company\, exchange business cards\, and share potential leads with the group. Each Meeting will include a Feature Builder\, a Coffee &amp\; Donut Sponsor for Breakfast Meetings held from 7:30am-9:00am and First Round Sponsor for the afternoon Meetings held 3:30pm 5:00pm. There is no charge to attend these meetings. Meeting locations change each month.</span>
LOCATION:DreamMaker Bath & Kitchen of Elizabethtown Home Builders Association of Metropolitan Harrisburg Education Facility 2416 Park Drive Harrisburg\, PA 17110
UID:e.9574.15756
SEQUENCE:3
DTSTAMP:20260420T135732Z
URL:https://members.harrisburgbuilders.com/events/details/2026-member-2-member-referral-network-04-21-2026-15756
END:VEVENT

END:VCALENDAR
